BEGIN:VCALENDAR
VERSION:2.0
PRODID:-//BNE-Netzwerk Herne - ECPv6.15.20//NONSGML v1.0//EN
CALSCALE:GREGORIAN
METHOD:PUBLISH
X-ORIGINAL-URL:https://bne-netzwerk-herne.de
X-WR-CALDESC:Veranstaltungen für BNE-Netzwerk Herne
REFRESH-INTERVAL;VALUE=DURATION:PT1H
X-Robots-Tag:noindex
X-PUBLISHED-TTL:PT1H
BEGIN:VTIMEZONE
TZID:Europe/Berlin
BEGIN:DAYLIGHT
TZOFFSETFROM:+0100
TZOFFSETTO:+0200
TZNAME:CEST
DTSTART:20250330T010000
END:DAYLIGHT
BEGIN:STANDARD
TZOFFSETFROM:+0200
TZOFFSETTO:+0100
TZNAME:CET
DTSTART:20251026T010000
END:STANDARD
BEGIN:DAYLIGHT
TZOFFSETFROM:+0100
TZOFFSETTO:+0200
TZNAME:CEST
DTSTART:20260329T010000
END:DAYLIGHT
BEGIN:STANDARD
TZOFFSETFROM:+0200
TZOFFSETTO:+0100
TZNAME:CET
DTSTART:20261025T010000
END:STANDARD
BEGIN:DAYLIGHT
TZOFFSETFROM:+0100
TZOFFSETTO:+0200
TZNAME:CEST
DTSTART:20270328T010000
END:DAYLIGHT
BEGIN:STANDARD
TZOFFSETFROM:+0200
TZOFFSETTO:+0100
TZNAME:CET
DTSTART:20271031T010000
END:STANDARD
END:VTIMEZONE
BEGIN:VEVENT
DTSTART;TZID=Europe/Berlin:20260506T100000
DTEND;TZID=Europe/Berlin:20260506T130000
DTSTAMP:20260420T104324
CREATED:20260304T142627Z
LAST-MODIFIED:20260304T142631Z
UID:4872-1778061600-1778072400@bne-netzwerk-herne.de
SUMMARY:Vernetzungstreffen „Zukunft gestalten - IGA 2027\, Fairer Handel und die SDGs im Ruhrgebiet“
DESCRIPTION:Weitere Informationen: www.faire-metropole.ruhr
URL:https://bne-netzwerk-herne.de/termine/vernetzungstreffen-zukunft-gestalten-iga-2027-fairer-handel-und-die-sdgs-im-ruhrgebiet/
LOCATION:VHS Gelsenkirchen\, Ebertstraße 19\, Gelsenkirchen\, Nordrhein-Westfalen\, 45875\, Germany
CATEGORIES:V-BNE-Allgemein
END:VEVENT
BEGIN:VEVENT
DTSTART;TZID=Europe/Berlin:20260519T133000
DTEND;TZID=Europe/Berlin:20260519T163000
DTSTAMP:20260420T104324
CREATED:20251209T145135Z
LAST-MODIFIED:20251209T145135Z
UID:4822-1779197400-1779208200@bne-netzwerk-herne.de
SUMMARY:Offener Gartentreff in der GartenOase – altes Wissen neu entdecken
DESCRIPTION:Die GartenOase ist ein Interkultureller Garten und Nachbarschaftstreff der „Gesellschaft für Integration“ (gfi) Herne. Die GartenOase ist ein Raum\, der Impulse und Vernetzungsmöglichkeiten schafft: mit Blick auf Begegnung\, Austausch\, Raum für Experimente und Sensibilisierung für ökologische Prozesse. \n\n\n\nDie Kursteilnehmenden lernen Neues und Altes zum Thema: Wie gestalte ich sogar auf kleiner Fläche (Hoch-) Beete. Im Rahmen dieser offenen Veranstaltungsreihe wird nicht nur theoretisches Wissen vermittelt\, sondern dieses Wissen wird auch gleich in die Tat umgesetzt. Wie wird richtig und gut gesät\, gepflanzt\, gepflegt und geerntet? Dabei lernen wir voneinander\, teilen Erfahrungen und entdecken gemeinsam Neues. Der Treff bietet Raum für Fragen rund um Gartenpraxis\, nachhaltige Pflege\, Upcycling und Rezeptideen. Zu einzelnen Themen werden gesondert und nach Bedarf Referenten eingeladen. Im Rahmen der Treffen steht der Austausch untereinander im Fokus. Ideen und Wünsche der Teilnehmenden können aufgegriffen und besprochen werden. Altes Wissen kann auf diese Weise neu nutzbar gemacht werden. \n\n\n\nDie Teilnahme ist fortlaufend möglich – Interessierte können jederzeit dazukommen. Bei ungünstiger Witterung (Regen\, Sturm) findet das Treffen nach Absprache in den Räumen der gfi /  Fachstelle Eine Welt statt. \n\n\n\nTermine:Di.\, 27.01. / Di.\, 24.02. / Di.\, 24.03. / Di.\, 21.04. / Di.\, 19.05. / Di.\, 23.06.
URL:https://bne-netzwerk-herne.de/termine/offener-gartentreff-in-der-gartenoase-altes-wissen-neu-entdecken-2/
LOCATION:GartenOase\, Overwegstraße 32\, Herne\, 44623\, Deutschland
CATEGORIES:V-Ökologie / Biodiversität
ORGANIZER;CN="Martina Wisnewski":MAILTO:martina.Wisnewski@ekvw.de
END:VEVENT
BEGIN:VEVENT
DTSTART;TZID=Europe/Berlin:20260521T100000
DTEND;TZID=Europe/Berlin:20260521T163000
DTSTAMP:20260420T104324
CREATED:20260304T145406Z
LAST-MODIFIED:20260304T145407Z
UID:4876-1779357600-1779381000@bne-netzwerk-herne.de
SUMMARY:Fortbildung „Nachhaltigkeit in der Kita – globale Ungleichheiten und Fairer Handel alsThemen im Elementarbereich“
DESCRIPTION:Fragen wie „Woher kommt die Banane? Was bedeutet „fair“? Und wer macht eigentlichunsere Schokolade?“ zeigen: Kinder sind neugierig auf die Welt – und globale Themen wieHandel\, Konsum und Gerechtigkeit sind längst im Kita-Alltag angekommen. Doch nicht nurKinder stellen Fragen – auch Erzieher:innen stehen vor der Herausforderung\, komplexeThemen kindgerecht und mit Freude zu vermitteln und dabei Neugier für globaleZusammenhänge zu wecken. \n\n\n\nDie ganztägige Fortbildung lädt interessierte Kitamitarbeiter:innen ein\, das ThemaNachhaltigkeit intensiv zu beleuchten und am Beispiel des Projektes Faire KITA einegelungene Umsetzung zu erleben. Im ersten Teil der Fortbildung werfen wir gemeinsam einenBlick auf die UN-Nachhaltigkeitsziele (SDGs) und das Konzept einer Bildung für nachhaltigeEntwicklung (BNE). Im zweiten Teil setzen wir uns gemeinsam mit den Ursprüngen globaler Ungleichheiten sowie mit Methoden auseinander\, anhand derer sich globale Zusammenhängeund Gerechtigkeit in der Kita thematisieren lassen. Auf diese Weise lernen Kinder unsereWelt aus verschiedenen Perspektiven kennen. Dabei erfahren Sie Wissenswertes über denFairen Handel und darüber\, wie auch Ihre Kita eine FaireKITA werden kann. Im dritten Teildes Tages sind Sie eingeladen\, verschiedene Bildungseinheiten bspw. zu den Themen „AllesBanane“\, „Wächst Kakao auf Bäumen?“ und „Der Faire Fußball“ kennenzulernen. \n\n\n\nDie Veranstaltung richtet sich an interessierte pädagogische Fachkräfte\, Kita-Leitungen undEltern aus Kitas\, Familienzentren oder Elterninitiativen aller Träger.Die Teilnahme an der Veranstaltung ist für alle kostenlos. Kalte und warme Getränke sowieein Mittagssnack stehen ebenfalls kostenlos zur Verfügung. \n\n\n\nEine Anmeldung ist bis zum 05. Mai 2025 möglich an: her-kk-eeb@ekvw.de \n\n\n\nReferentinnen: Claudia Pempelforth\, Petra Stach-Wittekind
URL:https://bne-netzwerk-herne.de/termine/fortbildung-nachhaltigkeit-in-der-kita-globale-ungleichheiten-und-fairer-handel-alsthemen-im-elementarbereich/
LOCATION:Evangelisches Gemeindehaus Börnig\, Schadeburgstraße 57\, Herne\, Nordrhein-Westfalen\, 44627\, Germany
CATEGORIES:V-BNE-Allgemein
ORGANIZER;CN="Evangelische Erwachsenenbildung i.d. Fachstelle Eine Welt":MAILTO:her-kk-eeb@ekvw.de
END:VEVENT
BEGIN:VEVENT
DTSTART;TZID=Europe/Berlin:20260521T183000
DTEND;TZID=Europe/Berlin:20260521T203000
DTSTAMP:20260420T104324
CREATED:20251216T070942Z
LAST-MODIFIED:20251216T070943Z
UID:4837-1779388200-1779395400@bne-netzwerk-herne.de
SUMMARY:Herner Nachhaltigkeitsforum: Klimaanpassung in Herne – Was tun gegen die Hitze – jetzt und in Zukunft?Information – Austausch – Handlungsperspektiven
DESCRIPTION:Hitze kann krank machen und sogar töten. Für den Sommer 2023 hat das Robert-Koch-Institut rund 3.200 hitzebedingte Sterbefälle in Deutschland geschätzt\, für den Sommer 2024 rund 3.000. Vom Fächer über Grünflächen bis zu Baumaßnahmen kann vieles helfen\, kurz- und langfristig. Was passiert in Herne zu dieser Problematik? Darüber wollen wir mit Expertinnen und Experten sprechen.
URL:https://bne-netzwerk-herne.de/termine/herner-nachhaltigkeitsforum-klimaanpassung-in-herne-was-tun-gegen-die-hitze-jetzt-und-in-zukunftinformation-austausch-handlungsperspektiven/
LOCATION:vhs im Kulturzentrum\, Willi-Pohlmann-Platz 1\, Herne\, 44623
CATEGORIES:V-BNE-Allgemein
ORGANIZER;CN="Fachstelle Eine Welt des Ev. Kirchenkreises":MAILTO:her-kk.fachstelle-einewelt-info@ekvw.de
END:VEVENT
END:VCALENDAR