BEGIN:VCALENDAR
VERSION:2.0
PRODID:-//BNE-Netzwerk Herne - ECPv6.15.20//NONSGML v1.0//EN
CALSCALE:GREGORIAN
METHOD:PUBLISH
X-ORIGINAL-URL:https://bne-netzwerk-herne.de
X-WR-CALDESC:Veranstaltungen für BNE-Netzwerk Herne
REFRESH-INTERVAL;VALUE=DURATION:PT1H
X-Robots-Tag:noindex
X-PUBLISHED-TTL:PT1H
BEGIN:VTIMEZONE
TZID:Europe/Berlin
BEGIN:DAYLIGHT
TZOFFSETFROM:+0100
TZOFFSETTO:+0200
TZNAME:CEST
DTSTART:20240331T010000
END:DAYLIGHT
BEGIN:STANDARD
TZOFFSETFROM:+0200
TZOFFSETTO:+0100
TZNAME:CET
DTSTART:20241027T010000
END:STANDARD
BEGIN:DAYLIGHT
TZOFFSETFROM:+0100
TZOFFSETTO:+0200
TZNAME:CEST
DTSTART:20250330T010000
END:DAYLIGHT
BEGIN:STANDARD
TZOFFSETFROM:+0200
TZOFFSETTO:+0100
TZNAME:CET
DTSTART:20251026T010000
END:STANDARD
BEGIN:DAYLIGHT
TZOFFSETFROM:+0100
TZOFFSETTO:+0200
TZNAME:CEST
DTSTART:20260329T010000
END:DAYLIGHT
BEGIN:STANDARD
TZOFFSETFROM:+0200
TZOFFSETTO:+0100
TZNAME:CET
DTSTART:20261025T010000
END:STANDARD
END:VTIMEZONE
BEGIN:VEVENT
DTSTART;TZID=Europe/Berlin:20250202T170000
DTEND;TZID=Europe/Berlin:20250202T190000
DTSTAMP:20260419T145830
CREATED:20241206T091859Z
LAST-MODIFIED:20241206T102251Z
UID:4435-1738515600-1738522800@bne-netzwerk-herne.de
SUMMARY:Stadtverwaldung e.V. – Tiny‐Forests für das Ruhrgebiet
DESCRIPTION:Informationsveranstaltung zur grundsätzlichen Idee unseres Vereins Stadtverwaldung e.V.sowie dem Stand erster konkreter Projekte. Für alle Mitglieder\, solche die es vielleichtwerden wollen\, oder Menschen\, die einfach so interessiert sind. \n\n\n\nNach einem Informationsteil über die Anlage von Tiny‐Forests nach der Miyawaki‐Methodeals sozial‐ökologisches Konzept\, Vorstellung von anderen Maßnahmen zur Herstellung bzw.Vernetzung von Biotopen sowie unseres aktuellen Planungsstandes soll es vor allem Raumfür Austausch\, Klärung von Fragen und Sammlung von Ideen geben. \n\n\n\nWir bitten um kurze Anmeldung unter der Email‐Adresse: stadtverwaldung@gmx.de \, dannübersenden wir den Zoom‐Link rechtzeitig per Mail
URL:https://bne-netzwerk-herne.de/termine/stadtverwaldung-e-v-tiny%e2%80%90forests-fuer-das-ruhrgebiet/
LOCATION:online
CATEGORIES:V-Ökologie / Biodiversität
END:VEVENT
BEGIN:VEVENT
DTSTART;TZID=Europe/Berlin:20250222T100000
DTEND;TZID=Europe/Berlin:20250222T123000
DTSTAMP:20260419T145830
CREATED:20250131T124756Z
LAST-MODIFIED:20250131T124757Z
UID:4482-1740218400-1740227400@bne-netzwerk-herne.de
SUMMARY:Kreativer Näh-Workshop mit Chiara Cremon
DESCRIPTION:Aus alten Werbebannern entstehen am 22.02.2025 in der Zeit von 10 – 12.30 Uhr frühlingsfrische Blumenübertöpfe\, Pflanztaschen oder große Einkaufsshopper. Alle Materialien werden gestellt. Die Teilnahmegebühr beträgt 15 €\, eine Anmeldung ist erforderlich.
URL:https://bne-netzwerk-herne.de/termine/kreativer-naeh-workshop-mit-chiara-cremon/
LOCATION:Entsorgung Herne\, Meesmannstraße 2\, Herne\, 44625\, Germany
CATEGORIES:V-Konsum / Produktion
ORGANIZER;CN="Entsorgung Herne":MAILTO:info@entsorgung.herne.de
END:VEVENT
END:VCALENDAR