BEGIN:VCALENDAR
VERSION:2.0
PRODID:-//BNE-Netzwerk Herne - ECPv6.15.20//NONSGML v1.0//EN
CALSCALE:GREGORIAN
METHOD:PUBLISH
X-WR-CALNAME:BNE-Netzwerk Herne
X-ORIGINAL-URL:https://bne-netzwerk-herne.de
X-WR-CALDESC:Veranstaltungen für BNE-Netzwerk Herne
REFRESH-INTERVAL;VALUE=DURATION:PT1H
X-Robots-Tag:noindex
X-PUBLISHED-TTL:PT1H
BEGIN:VTIMEZONE
TZID:Europe/Berlin
BEGIN:DAYLIGHT
TZOFFSETFROM:+0100
TZOFFSETTO:+0200
TZNAME:CEST
DTSTART:20230326T010000
END:DAYLIGHT
BEGIN:STANDARD
TZOFFSETFROM:+0200
TZOFFSETTO:+0100
TZNAME:CET
DTSTART:20231029T010000
END:STANDARD
BEGIN:DAYLIGHT
TZOFFSETFROM:+0100
TZOFFSETTO:+0200
TZNAME:CEST
DTSTART:20240331T010000
END:DAYLIGHT
BEGIN:STANDARD
TZOFFSETFROM:+0200
TZOFFSETTO:+0100
TZNAME:CET
DTSTART:20241027T010000
END:STANDARD
BEGIN:DAYLIGHT
TZOFFSETFROM:+0100
TZOFFSETTO:+0200
TZNAME:CEST
DTSTART:20250330T010000
END:DAYLIGHT
BEGIN:STANDARD
TZOFFSETFROM:+0200
TZOFFSETTO:+0100
TZNAME:CET
DTSTART:20251026T010000
END:STANDARD
END:VTIMEZONE
BEGIN:VEVENT
DTSTART;TZID=Europe/Berlin:20240920T100000
DTEND;TZID=Europe/Berlin:20240920T140000
DTSTAMP:20260425T133608
CREATED:20240814T130842Z
LAST-MODIFIED:20240919T090751Z
UID:4354-1726826400-1726840800@bne-netzwerk-herne.de
SUMMARY:World-Clean-Up-Day
DESCRIPTION:Am Freitag\, dem 20.09.2024 treffen sich weltweit umweltbewusste Menschen\, um miteinander ihr Umfeld von Müll zu befreien. Auch Hernerinnen und Herner sind dabei. \n\n\n\nDie Stadt Herne und Entsorgung Herne unterstützen den World Cleanup Day mit eigenen Aktionen rund um zwei Sammelpunkte im Stadtgebiet. \n\n\n\nTreffpunkte zum gemeinsamen Müllsammeln sind \n\n\n\nan der Akademie Mont-Cenis in Sodingen \n\n\n\nan der Löwenkirche in Wanne-Süd \n\n\n\nWichtig: Eine Anmeldung der Schulen und Kitas sowie größerer Gruppen ist unter Telefon 0 23 23 / 16 – 16 70 noch bis Freitag\, 30. August 2024\, möglich und wird aus logistischen Gründen erbeten. Das Material wird kurz vor der Aktion (ab Montag\, 16. September 2024) im Servicecenter von Entsorgung Herne an der Südstraße 10 zur Abholung bereitstehen. Nach dem „World Cleanup Day“ kümmern sich die Stadt Herne und Entsorgung Herne um die ordnungsgemäße Abholung des Mülls an vorbestimmten Sammelstellen. \n\n\n\n\n\nMerkzettel MüllsammelaktionHerunterladen
URL:https://bne-netzwerk-herne.de/termine/world-clean-up-day/
LOCATION:Akademie Mont-Cenis
CATEGORIES:V-Ökologie / Biodiversität
ORGANIZER;CN="Entsorgung Herne":MAILTO:info@entsorgung.herne.de
END:VEVENT
BEGIN:VEVENT
DTSTART;TZID=Europe/Berlin:20240921T123000
DTEND;TZID=Europe/Berlin:20240921T180000
DTSTAMP:20260425T133608
CREATED:20240919T121957Z
LAST-MODIFIED:20240919T121958Z
UID:4378-1726921800-1726941600@bne-netzwerk-herne.de
SUMMARY:CSD Herne
DESCRIPTION:Selbstbestimmt kämpfen – für queere Befreiung weltweit \n\n\n\n2024 bringen wir den bereits dritten CSD der Herner Stadtgeschichte auf die Straßen. Am 21. September ist es so weit: Wir beginnen mit der Demo ab 12:30 Uhr auf dem Europaplatz und enden nach einer Zwischenkundgebung vor dem Rathaus etwa drei Stunden später wieder an unserem Startpunkt. Um 16 Uhr beginnt ein ca. zweistündiges Bühnenprogramm mit gleichzeitigem Ständefest\, auf dem sich einige Organisationen vorstellen werden\, in deren Arbeit queere Themen vorkommen. \n\n\n\nAblauf der Demo \n\n\n\nUhrzeitProgrammpunkt11.15 UhrCSD Gottesdienst11.30 UhrTreffen der Ordner*innen12.00 UhrSammeln für den Demozug12.30 UhrStart Demonstration14.30 UhrZwischenkundgebung am Rathaus15.30 UhrAnkunft Demo am Europaplatz\n\n\n\nBühnenprogramm \n\n\n\nUhrzeitProgrammpunkt16.00 UhrStart mit Miss Foxy Bless und Julian16.10 UhrRedebeitrag vom CSD Orga-Team16.20 UhrMusik von DJ Sun16.45 UhrRedebeitrag von Stephanie Jordan16.55 UhrDrag von Roxy17.05 UhrRedebeitrag von Friederike Vogt17.20 UhrDrag von Miss Foxy Bless17.35 UhrMusik von Maryaka18.00 UhrEnde
URL:https://bne-netzwerk-herne.de/termine/csd-herne/
LOCATION:Europaplatz Herne\, Europaplatz\, Herne\, 44623\, Deutschland
CATEGORIES:V-Gesellschaft
ORGANIZER;CN="CSD Herne":MAILTO:info@csd-herne.de
END:VEVENT
BEGIN:VEVENT
DTSTART;TZID=Europe/Berlin:20240922T130000
DTEND;TZID=Europe/Berlin:20240922T190000
DTSTAMP:20260425T133608
CREATED:20240919T091550Z
LAST-MODIFIED:20240919T091551Z
UID:4365-1727010000-1727031600@bne-netzwerk-herne.de
SUMMARY:Herne macht grün!
DESCRIPTION:Nachhaltigkeit. Mobilität. Umwelt. \n\n\n\nAm 22. September 2024 verwandelt sich der Westring zwischen Behrensstraße und Shamrockstraße in Herne in eine grüne Oase. Von 13 bis 19 Uhr lädt der neue Aktionstag „Herne macht grün“ alle Bürgerinnen und Bürger ein\, die Vielfalt an Möglichkeiten für eine nachhaltige Zukunft zu entdecken und aktiv mitzugestalten. \n\n\n\nOrganisiert vom Fachbereich Tiefbau und Verkehr sowie Umwelt und Stadtplanung der Stadt Herne\, steht der Tag ganz im Zeichen der Nachhaltigkeit\, Mobilität und Umwelt. Dabei bietet die Veranstaltung ein abwechslungsreiches Programm mit spannenden Highlights für Groß und Klein. \n\n\n\nEntdecken\, Mitmachen\, Erleben\n\n\n\nOb an den vielfältigen Informationsständen oder bei interaktiven Mitmachaktionen – im Bereich der nachhaltigen Entwicklung und Mobilität gibt es für alle etwas zu erleben. \n\n\n\nNachhaltige Entwicklung entdecken\n\n\n\nAuf der „Spur der Nachhaltigkeit“ wird die Vielfalt an Akteuren aus Herne gezeigt\, die zu den 17 globalen Nachhaltigkeitszielen beitragen. Dabei werden verschiedene Aktivitäten unter anderem aus den Bereichen Klimaschutz\, Naturschutz\, Ressourcenschutz\, Fairer Handel\, Gesundheit\, Digitalisierung\, Stadtplanung\, Wirtschaft und Politik präsentiert und zu Mitmachaktionen eingeladen. \n\n\n\nNachhaltige Mobilität erleben\n\n\n\nAuf der Test-Strecke für E-Bikes\, Lastenräder und E-Scooter können innovative Fortbewegungsmittel ausprobiert werden. Wer sein Fahrrad schützen möchte\, hat die Möglichkeit zur Fahrradkodierung beim ADFC oder lässt es in der Fahrradwaschanlage erstrahlen. Das O-Saft-Rad kombiniert Fitness und Genuss: Hier kann jeder seinen eigenen frischen Orangensaft erradeln. \n\n\n\nFür die kleinen Besucher gibt es einen Kinder-Fahrradparcours\, sowie einen Laufrad-Parcours und eine Kreativwerkstatt\, wo sie ihrer Fantasie freien Lauf lassen können. \n\n\n\nFür die Großen bietet der Aktionstag spannende Erlebnisse wie den Fahrrad-Simulator\, den Überschlags-Simulator oder den Rollator-Parcours\, bei denen Geschicklichkeit und Mut gefragt sind. Wer es lieber historisch mag\, kann beim Deutschen Fahrradmuseum in die Welt der historischen Räder eintauchen und selbst in die Pedale treten. \n\n\n\nStadtradel Siegerehrung\n\n\n\nIm Rahmen des Aktionstages „Herne macht grün!“ wird auch die Abschlussveranstaltung der jährlichen STADTRADELN-Kampagne stattfinden. Hierbei werden die Gewinnerteams in den verschiedenen Kategorien mit Urkunden und die Schulen und Kitas zusätzlich mit Pokalen geehrt. STADTRADELN ist eine internationale Kampagne des Klima-Bündnis\, bei der es darum geht\, privat und beruflich möglichst viele Wege klimafreundlich mit dem Fahrrad zurückzulegen und damit ein Zeichen für mehr Radverkehrsförderung\, Klimaschutz und Lebensqualität in unserer Stadt zu setzen. 2024 haben in Herne 1.230 Radelnde in 63 Teams teilgenommen. Darunter gab es 15 Schul- und sieben Kita-Teams. \n\n\n\nBühnenprogramm & Kulinarische Köstlichkeiten\n\n\n\nEin abwechslungsreiches Bühnenprogramm sorgt den ganzen Tag über für Unterhaltung und Inspiration. Lokale Künstler\, informative Vorträge und spannende Podiumsdiskussionen rund um die Themen Nachhaltigkeit und Mobilität in Herne erwarten Sie auf der Bühne. \n\n\n\nFür das leibliche Wohl sorgt eine vielfältige Gastronomiemeile\, auf der für jeden etwas dabei ist. \n\n\n\nSeien Sie dabei und machen Sie Herne ein Stück grüner! Erleben Sie einen Tag voller Aktionen\, Informationen und Spaß – für eine nachhaltige Zukunft in unserer Stadt. \n\n\n\n \n\n\n\nAufruf: „Herne macht grün“ – Ihre Fragen an die Chefetage\n\n\n\nWir möchten Ihre Stimme hören! \n\n\n\nIn unserer Stadt gibt es zahlreiche Initiativen und Projekte\, die sich mit den wichtigen Themen Nachhaltigkeit\, Mobilität und Umwelt beschäftigen. Angefangen bei der Umgestaltung des Bergelmanns Hof bis hin zu innovativen Konzepten für eine grünere Zukunft am Westring – wir setzen uns für ein lebenswertes und zukunftsfähiges Herne ein. \n\n\n\nDoch Ihre Perspektive ist entscheidend. Welche Fragen haben Sie zu den laufenden Projekten? Welche Anliegen und Ideen möchten Sie einbringen? Wir laden Sie herzlich ein\, Ihre Fragen rund um die Themen Nachhaltigkeit\, Mobilität und Umwelt an die Chefetage der Verwaltung zu richten. \n\n\n\nIhre Fragen werden im Rahmen der Veranstaltung „Herne macht grün!“ in einem speziellen Programmpunkt auf der Bühne von der Chefetage der Verwaltung beantwortet. \n\n\n\nGemeinsam können wir Herne noch lebenswerter gestalten. \n\n\n\nNutzen Sie die Chance\, aktiv an der Entwicklung unserer Stadt mitzuwirken. Wir freuen uns auf Ihre Beiträge! \n\n\n\nBeiträge können bis zum 16. September 2024 völlig anonym eingereicht werden  . \n\n\n\nHighlights auf einen Blick\n\n\n\nXXL-Kickertisch \n\n\n\nAufstellflächen für Bürger*innen / Vereine \n\n\n\nAusstellung eines wasserstoffbetriebenen Brennstoffzellenabfallsammelfahrzeugs \n\n\n\nBus-Schule der HCR \n\n\n\nDeutsches Fahrradmuseum \n\n\n\nFahrrad-Carerrabahn \n\n\n\nFahrradkodierung \n\n\n\nFahrrad-Simulator \n\n\n\nFoto-Wand mit Foto-Wettbewerb \n\n\n\nGlücksrad \n\n\n\nHüpfburg \n\n\n\nInformationsstände diverser Umwelt-\, Mobilitäts- und Nachhaltigkeits-Akteure \n\n\n\nKinder-Fahrradparcours \n\n\n\nKinderschminken \n\n\n\nKinderwarnwesten-Malaktion \n\n\n\nKlimainsel \n\n\n\nKostenlose Fahrradwaschanlage \n\n\n\nKreativwerkstatt für Kinder \n\n\n\nO-Saft-Rad \n\n\n\nPräsentation nachhaltiger Geschäftsideen \n\n\n\nPuky-/Laufrad-Parcours \n\n\n\nRettungs-Simulator / Überschlags-Simulator \n\n\n\nRollator-Parcours \n\n\n\nRollende Waldschule \n\n\n\nTest-Strecke für E-Bikes\, Lastenräder und E-Scooter
URL:https://bne-netzwerk-herne.de/termine/herne-macht-gruen/
LOCATION:Westring\, Westring\, Herne\, Germany
CATEGORIES:V-Verkehr / Mobilität
ATTACH;FMTTYPE=image/jpeg:https://bne-netzwerk-herne.de/wp-content/uploads/2024/09/herne_macht_gruen_2024_website_rz_Beitragsbild.jpg
ORGANIZER;CN="Melina Albrecht":MAILTO:melina.albrecht@herne.de
END:VEVENT
BEGIN:VEVENT
DTSTART;TZID=Europe/Berlin:20240925T100000
DTEND;TZID=Europe/Berlin:20240925T120000
DTSTAMP:20260425T133608
CREATED:20240919T121254Z
LAST-MODIFIED:20240919T121254Z
UID:4374-1727258400-1727265600@bne-netzwerk-herne.de
SUMMARY:Faires Frühstück
DESCRIPTION:Austausch und Begegnung beim Frühstück mit fairen und ökologischen Produkten. \n\n\n\nAnmeldung erforderlich bis zum 20.09.24
URL:https://bne-netzwerk-herne.de/termine/faires-fruehstueck/
LOCATION:Eine Welt Zentrum Herne\, Overwegstr. 31\, Herne\, 44625
CATEGORIES:V-Konsum / Produktion
ORGANIZER;CN="Irina Nardone":MAILTO:irina.nardone@ekvw.de
END:VEVENT
END:VCALENDAR