BEGIN:VCALENDAR
VERSION:2.0
PRODID:-//BNE-Netzwerk Herne - ECPv6.15.20//NONSGML v1.0//EN
CALSCALE:GREGORIAN
METHOD:PUBLISH
X-WR-CALNAME:BNE-Netzwerk Herne
X-ORIGINAL-URL:https://bne-netzwerk-herne.de
X-WR-CALDESC:Veranstaltungen für BNE-Netzwerk Herne
REFRESH-INTERVAL;VALUE=DURATION:PT1H
X-Robots-Tag:noindex
X-PUBLISHED-TTL:PT1H
BEGIN:VTIMEZONE
TZID:Europe/Berlin
BEGIN:DAYLIGHT
TZOFFSETFROM:+0100
TZOFFSETTO:+0200
TZNAME:CEST
DTSTART:20250330T010000
END:DAYLIGHT
BEGIN:STANDARD
TZOFFSETFROM:+0200
TZOFFSETTO:+0100
TZNAME:CET
DTSTART:20251026T010000
END:STANDARD
BEGIN:DAYLIGHT
TZOFFSETFROM:+0100
TZOFFSETTO:+0200
TZNAME:CEST
DTSTART:20260329T010000
END:DAYLIGHT
BEGIN:STANDARD
TZOFFSETFROM:+0200
TZOFFSETTO:+0100
TZNAME:CET
DTSTART:20261025T010000
END:STANDARD
BEGIN:DAYLIGHT
TZOFFSETFROM:+0100
TZOFFSETTO:+0200
TZNAME:CEST
DTSTART:20270328T010000
END:DAYLIGHT
BEGIN:STANDARD
TZOFFSETFROM:+0200
TZOFFSETTO:+0100
TZNAME:CET
DTSTART:20271031T010000
END:STANDARD
END:VTIMEZONE
BEGIN:VEVENT
DTSTART;TZID=Europe/Berlin:20260326T183000
DTEND;TZID=Europe/Berlin:20260326T203000
DTSTAMP:20260424T101439
CREATED:20251216T070616Z
LAST-MODIFIED:20251216T070617Z
UID:4835-1774549800-1774557000@bne-netzwerk-herne.de
SUMMARY:Herner Nachhaltigkeitsforum: Wie lassen sich Sport und Nachhaltigkeit verbinden? Information – Austausch – Handlungsperspektiven
DESCRIPTION:Sportlerinnen und Sportler wünschen sich sowohl eine intakte Umwelt als auch ein intaktes soziales Umfeld. Gleichzeitig haben sportliche Aktivitäten Auswirkungen auf ökologischer\, ökonomischer\, sozialer und kultureller Ebene\, sowohl lokal als auch regional\, national und global. Daraus ergibt sich die Verantwortung\, verstärkt und konsequent nachhaltig zu handeln. Die gelebten Werte des Sports\, wie beispielsweise Respekt\, Toleranz\, Teamgeist\, Fairplay\, Vielfalt und Weltoffenheit sind auch Bestandteile des Wertekanons für nachhaltige Entwicklung. Die Möglichkeiten\, nachhaltiger zu handeln\, sei es bei Vereinsfesten und anderen Veranstaltungen\, Mannschaftsfahrten\, der Anschaffung von Sportgeräten oder beim Wettkampf\, sind für Sportvereine nahezu überall gegeben. Im Gespräch mit Expertinnen und Experten sollen konkrete Anregungen\, Tipps und Praxisbeispiele vorgestellt werden. So gibt z.B. Melina Stirl vom VfL Bochum 1848 einen Einblick in die Nachhaltigkeitsarbeit des Vereins.
URL:https://bne-netzwerk-herne.de/termine/herner-nachhaltigkeitsforum-wie-lassen-sich-sport-und-nachhaltigkeit-verbinden-information-austausch-handlungsperspektiven/
LOCATION:vhs im Kulturzentrum\, Willi-Pohlmann-Platz 1\, Herne\, 44623
CATEGORIES:V-BNE-Allgemein
ORGANIZER;CN="Fachstelle Eine Welt des Ev. Kirchenkreises":MAILTO:her-kk.fachstelle-einewelt-info@ekvw.de
END:VEVENT
END:VCALENDAR