BEGIN:VCALENDAR
VERSION:2.0
PRODID:-//BNE-Netzwerk Herne - ECPv6.15.20//NONSGML v1.0//EN
CALSCALE:GREGORIAN
METHOD:PUBLISH
X-ORIGINAL-URL:https://bne-netzwerk-herne.de
X-WR-CALDESC:Veranstaltungen für BNE-Netzwerk Herne
REFRESH-INTERVAL;VALUE=DURATION:PT1H
X-Robots-Tag:noindex
X-PUBLISHED-TTL:PT1H
BEGIN:VTIMEZONE
TZID:Europe/Berlin
BEGIN:DAYLIGHT
TZOFFSETFROM:+0100
TZOFFSETTO:+0200
TZNAME:CEST
DTSTART:20250330T010000
END:DAYLIGHT
BEGIN:STANDARD
TZOFFSETFROM:+0200
TZOFFSETTO:+0100
TZNAME:CET
DTSTART:20251026T010000
END:STANDARD
BEGIN:DAYLIGHT
TZOFFSETFROM:+0100
TZOFFSETTO:+0200
TZNAME:CEST
DTSTART:20260329T010000
END:DAYLIGHT
BEGIN:STANDARD
TZOFFSETFROM:+0200
TZOFFSETTO:+0100
TZNAME:CET
DTSTART:20261025T010000
END:STANDARD
BEGIN:DAYLIGHT
TZOFFSETFROM:+0100
TZOFFSETTO:+0200
TZNAME:CEST
DTSTART:20270328T010000
END:DAYLIGHT
BEGIN:STANDARD
TZOFFSETFROM:+0200
TZOFFSETTO:+0100
TZNAME:CET
DTSTART:20271031T010000
END:STANDARD
END:VTIMEZONE
BEGIN:VEVENT
DTSTART;TZID=Europe/Berlin:20260325T000000
DTEND;TZID=Europe/Berlin:20260325T235959
DTSTAMP:20260420T104201
CREATED:20260120T105605Z
LAST-MODIFIED:20260120T105606Z
UID:4848-1774396800-1774483199@bne-netzwerk-herne.de
SUMMARY:Besichtigung des PhänomexX-Labors
DESCRIPTION:Zielgruppe: interessierte Pädagog*innen für die Jahrgangsstufe 4-6. \n\n\n\nweitere Infos folgen.
URL:https://bne-netzwerk-herne.de/termine/besichtigung-des-phaenomexx-labors/
LOCATION:zdi-Geschäftsstelle Herne\, Viktor-Reuter-Str. 33\, Herne\, 44623\, Germany
CATEGORIES:V-BNE-Allgemein
ORGANIZER;CN="zdi-Netzwerk MINT-HERne":MAILTO:zeidler@mint-herne.de
END:VEVENT
END:VCALENDAR