BEGIN:VCALENDAR
VERSION:2.0
PRODID:-//BNE-Netzwerk Herne - ECPv6.15.20//NONSGML v1.0//EN
CALSCALE:GREGORIAN
METHOD:PUBLISH
X-WR-CALNAME:BNE-Netzwerk Herne
X-ORIGINAL-URL:https://bne-netzwerk-herne.de
X-WR-CALDESC:Veranstaltungen für BNE-Netzwerk Herne
REFRESH-INTERVAL;VALUE=DURATION:PT1H
X-Robots-Tag:noindex
X-PUBLISHED-TTL:PT1H
BEGIN:VTIMEZONE
TZID:Europe/Berlin
BEGIN:DAYLIGHT
TZOFFSETFROM:+0100
TZOFFSETTO:+0200
TZNAME:CEST
DTSTART:20250330T010000
END:DAYLIGHT
BEGIN:STANDARD
TZOFFSETFROM:+0200
TZOFFSETTO:+0100
TZNAME:CET
DTSTART:20251026T010000
END:STANDARD
BEGIN:DAYLIGHT
TZOFFSETFROM:+0100
TZOFFSETTO:+0200
TZNAME:CEST
DTSTART:20260329T010000
END:DAYLIGHT
BEGIN:STANDARD
TZOFFSETFROM:+0200
TZOFFSETTO:+0100
TZNAME:CET
DTSTART:20261025T010000
END:STANDARD
BEGIN:DAYLIGHT
TZOFFSETFROM:+0100
TZOFFSETTO:+0200
TZNAME:CEST
DTSTART:20270328T010000
END:DAYLIGHT
BEGIN:STANDARD
TZOFFSETFROM:+0200
TZOFFSETTO:+0100
TZNAME:CET
DTSTART:20271031T010000
END:STANDARD
END:VTIMEZONE
BEGIN:VEVENT
DTSTART;TZID=Europe/Berlin:20260309T000000
DTEND;TZID=Europe/Berlin:20260309T235959
DTSTAMP:20260420T103614
CREATED:20260120T105253Z
LAST-MODIFIED:20260326T132714Z
UID:4844-1773014400-1773100799@bne-netzwerk-herne.de
SUMMARY:12. BNE-Schulnetzwerktreffen
DESCRIPTION:TO Schulnetzwerk_090326Herunterladen\n\n\n\nPtk BNE Schulnetzwerk 090326Herunterladen\n\n\n\nElektroausbildg HiberniaHerunterladen\n\n\n\nBNE_Vom_Staunen_zum_Handeln_(5)Herunterladen\n\n\n\nPPT für Netzwerktreffen 09.03.2026 (2)Herunterladen
URL:https://bne-netzwerk-herne.de/termine/12-bne-schulnetzwerktreffen/
LOCATION:Hiberniaschule\, Holsterhauser Straße 70 44652 Herne\, Herne\, 44652\, Germany
CATEGORIES:V-BNE-Schulnetzwerk
ORGANIZER;CN="Barbara Kruse":MAILTO:Barbara.Kruse@herne.de
END:VEVENT
END:VCALENDAR