BEGIN:VCALENDAR
VERSION:2.0
PRODID:-//BNE-Netzwerk Herne - ECPv6.15.20//NONSGML v1.0//EN
CALSCALE:GREGORIAN
METHOD:PUBLISH
X-WR-CALNAME:BNE-Netzwerk Herne
X-ORIGINAL-URL:https://bne-netzwerk-herne.de
X-WR-CALDESC:Veranstaltungen für BNE-Netzwerk Herne
REFRESH-INTERVAL;VALUE=DURATION:PT1H
X-Robots-Tag:noindex
X-PUBLISHED-TTL:PT1H
BEGIN:VTIMEZONE
TZID:Europe/Berlin
BEGIN:DAYLIGHT
TZOFFSETFROM:+0100
TZOFFSETTO:+0200
TZNAME:CEST
DTSTART:20240331T010000
END:DAYLIGHT
BEGIN:STANDARD
TZOFFSETFROM:+0200
TZOFFSETTO:+0100
TZNAME:CET
DTSTART:20241027T010000
END:STANDARD
BEGIN:DAYLIGHT
TZOFFSETFROM:+0100
TZOFFSETTO:+0200
TZNAME:CEST
DTSTART:20250330T010000
END:DAYLIGHT
BEGIN:STANDARD
TZOFFSETFROM:+0200
TZOFFSETTO:+0100
TZNAME:CET
DTSTART:20251026T010000
END:STANDARD
BEGIN:DAYLIGHT
TZOFFSETFROM:+0100
TZOFFSETTO:+0200
TZNAME:CEST
DTSTART:20260329T010000
END:DAYLIGHT
BEGIN:STANDARD
TZOFFSETFROM:+0200
TZOFFSETTO:+0100
TZNAME:CET
DTSTART:20261025T010000
END:STANDARD
END:VTIMEZONE
BEGIN:VEVENT
DTSTART;TZID=Europe/Berlin:20250316T133000
DTEND;TZID=Europe/Berlin:20250316T160000
DTSTAMP:20260419T145453
CREATED:20250225T085140Z
LAST-MODIFIED:20250225T085626Z
UID:4497-1742131800-1742140800@bne-netzwerk-herne.de
SUMMARY:Das ist kolonial - Westfalens (un-)sichtbares Erbe. Führung durch die Ausstellung mit Kuratorin Dr. Barbara Frey
DESCRIPTION:Nicht nur Hamburg oder Berlin\, auch die Region Westfalen‐Lippe hat vieleBerührungspunkte mit dem Kolonialismus. Die Ausstellung widmet sich der Geschichte\, denSpuren und Folgen der Kolonialzeit bis in die Gegenwart. Mit Objekten\, historischenBiografien\, Hörstationen und künstlerischen Installationen lädt die Ausstellung zurAuseinandersetzung mit Westfalens kolonialem Erbe ein und macht deutlich\, wie Geschichteund Gegenwart miteinander verknüpft sind. Die Kuratorin Dr. Barbara Frey führt durch dieAusstellung und gibt Einblicke in die Erarbeitung. \n\n\n\nEine Anmeldung ist erforderlich per E‐Mail: Mail: HER‐KK‐eeb@ekvw.de oder Tel.02323/99497‐16
URL:https://bne-netzwerk-herne.de/termine/das-ist-kolonial-westfalens-un-sichtbares-erbe-fuehrung-durch-die-ausstellung-mit-kuratorin-dr-barbara-frey/
LOCATION:Zeche Zollern\, Grubenweg 5\, Dortmund\, Nordrhein-Westfalen\, 44388\, Germany
CATEGORIES:V-Gesellschaft
ORGANIZER;CN="Erwachsenenbildung Fachstelle Eine Welt":MAILTO:HER‐KK‐eeb@ekvw.de
END:VEVENT
END:VCALENDAR